BEGIN:VCALENDAR
VERSION:2.0
PRODID:http://www.infomax-online.de/imxeventmanager/
METHOD:PUBLISH
BEGIN:VTIMEZONE
TZID:Europe/Berlin
TZURL:http://tzurl.org/zoneinfo-outlook/Europe/Berlin
X-LIC-LOCATION:Europe/Berlin
END:VTIMEZONE
BEGIN:VEVENT
UID:69eb8b6e23a39
LOCATION:Leo-Slezak-Str. 1a, 83700 Rottach-Egern
SUMMARY:Räucher Workshop bei Kunst und mehr - Entfaltung & Lebenskraft
DESCRIPTION:Tauchen Sie ein in die uralte Kunst des R&auml\;ucherns und erleben Sie einen duftvollen Nachmittag voller Ruhe\, Einklang und Inspiration.
In unseren liebevoll gestalteten R&auml\;ucherworkshops vermitteln wir praktisches Wissen rund um das R&auml\;uchern\, geben eine Einf&uuml\;hrung in verschiedene R&auml\;uchermethoden und widmen uns wechselnden\, spannenden R&auml\;ucherthemen. Ob f&uuml\;r Einsteiger oder bereits erfahrene Interessierte &ndash\; jeder Workshop l&auml\;dt dazu ein\, die wohltuende Wirkung von D&uuml\;ften und Ritualen neu zu entdecken.
In ruhiger\, pers&ouml\;nlicher Atmosph&auml\;re au&szlig\;erhalb der &Ouml\;ffnungszeiten entsteht ein besonderer Raum f&uuml\;r Entschleunigung und bewusste Auszeit. Barbara Rau f&uuml\;hrt einf&uuml\;hlsam in die Kunst des R&auml\;ucherns ein
und schafft am Tegernsee ein inspirierendes Erlebnis\, das dazu einl&auml\;dt\, innezuhalten\, neue Energie zu sch&ouml\;pfen und ganz bei sich selbst anzukommen.
Ein Moment nur f&uuml\;r Sie &ndash\; zum Durchatmen\, Loslassen und Genie&szlig\;en.

Anmeldung: Telefonisch\, via E-Mail oder gerne pers&ouml\;nlich bei uns in der Galerie.
Verpassen Sie keine neuen Termine: https://www.shop-kunstundmehr.de/i/raeucherworkshop
URL;VALUE=URI:https://www.tegernsee-schliersee.de/
CLASS:PUBLIC
DTSTART:20260425T150000
DTSTAMP:20260424T172534
END:VEVENT
END:VCALENDAR