BEGIN:VCALENDAR
VERSION:2.0
PRODID:http://www.infomax-online.de/imxeventmanager/
METHOD:PUBLISH
BEGIN:VTIMEZONE
TZID:Europe/Berlin
TZURL:http://tzurl.org/zoneinfo-outlook/Europe/Berlin
X-LIC-LOCATION:Europe/Berlin
END:VTIMEZONE
BEGIN:VEVENT
UID:69e9ff30a3ae7
LOCATION:Tölzer Str. 4, 83703 Gmund
SUMMARY:Stadtradeln "KFZ-E-Mobilität"
DESCRIPTION:Gemeinsam wird zu einem Infoabend &quot\;KFZ-E-Mobilit&auml\;t&quot\; nach Gmund geradelt. Auf dem R&uuml\;ckweg werden die verschiedene Lichtsysteme f&uuml\;r Fahrrader getestet.&nbsp\;

Treffpunkt bei sch&ouml\;nem Wetter 18:30 Uhr am Seeforum.
URL;VALUE=URI:https://www.tegernsee-schliersee.de/
CLASS:PUBLIC
DTSTART:20260424T183000
DTSTAMP:20260423T131456
END:VEVENT
END:VCALENDAR