BEGIN:VCALENDAR
VERSION:2.0
PRODID:http://www.infomax-online.de/imxeventmanager/
METHOD:PUBLISH
BEGIN:VTIMEZONE
TZID:Europe/Berlin
TZURL:http://tzurl.org/zoneinfo-outlook/Europe/Berlin
X-LIC-LOCATION:Europe/Berlin
END:VTIMEZONE
BEGIN:VEVENT
UID:69e758bd0a9c2
LOCATION:Nördl. Hauptstr. 3, 83708 Kreuth
SUMMARY:Flohmarkt am Dorfplatz Kreuth
DESCRIPTION:Der Flohmarkt findet nur bei sch&ouml\;nem Wetter statt. Verschiebetermin ist der darauf folgende Samstag.

Weitere Informationen unter der Tel. +49 175 5216522
URL;VALUE=URI:https://www.tegernsee-schliersee.de/
CLASS:PUBLIC
DTSTART:20260502T080000
DTSTAMP:20260421T130013
END:VEVENT
END:VCALENDAR