BEGIN:VCALENDAR
VERSION:2.0
PRODID:http://www.infomax-online.de/imxeventmanager/
METHOD:PUBLISH
BEGIN:VTIMEZONE
TZID:Europe/Berlin
TZURL:http://tzurl.org/zoneinfo-outlook/Europe/Berlin
X-LIC-LOCATION:Europe/Berlin
END:VTIMEZONE
BEGIN:VEVENT
UID:69e9fd7bdb28f
LOCATION:Kurgarten 5, 83684 Tegernsee
SUMMARY:Tegernseer Gespräche – „Die Kunst in Zeiten der Künstlichen Intelligenz"
DESCRIPTION:K&uuml\;nstliche Intelligenz ver&auml\;ndert die Kunstwelt in rasantem Tempo. Algorithmen generieren Bilder\, komponieren Musik und verfassen Texte &ndash\; und stellen dabei fundamentale Fragen an unser Verst&auml\;ndnis von Kreativit&auml\;t\, Originalit&auml\;t und dem Wesen des k&uuml\;nstlerischen Schaffens. Zahlreiche K&uuml\;nstlerinnen und K&uuml\;nstler nutzen KI bereits als Werkzeug\, um kreative Ideen schneller zu entwickeln oder neue Stilrichtungen zu erforschen. Gleichzeitig wirft der Einsatz von KI in der Kunst komplexe Fragen zu Urheberrecht\, zur Rolle des Menschen im Schaffensprozess und zur Zukunft der Kreativwirtschaft auf.

Michael Beck\, Vorstandsvorsitzender der OGG ist im Gespr&auml\;ch mit:

Anton Biebl\, Leiter der Bayerischen Staatsgem&auml\;ldesammlungen

Dr. Wolfgang Heckl\, Nanophysiker und ehemaliger Generaldirektor des Deutschen Museums

Karl-Heinz Land\, Unternehmer und KI-Experte

Ornella Fieres\, Medienk&uuml\;nstlerin und Medienwissenschaftlerin
URL;VALUE=URI:https://www.tegernsee-schliersee.de/
CLASS:PUBLIC
DTSTART:20260424T183000
DTSTAMP:20260423T130739
END:VEVENT
END:VCALENDAR