BEGIN:VCALENDAR
VERSION:2.0
PRODID:http://www.infomax-online.de/imxeventmanager/
METHOD:PUBLISH
BEGIN:VTIMEZONE
TZID:Europe/Berlin
TZURL:http://tzurl.org/zoneinfo-outlook/Europe/Berlin
X-LIC-LOCATION:Europe/Berlin
END:VTIMEZONE
BEGIN:VEVENT
UID:69eb8756a3438
LOCATION:Wallbergstraße 32, 83700 Rottach-Egern
SUMMARY:Gaudiragout "Sodumm & Gomorra" am Wallberg
DESCRIPTION:Das St&uuml\;ck &quot\;Sodumm und Gomorra&quot\; wird in drei G&auml\;ngen und mit einem traumhaften Ausblick auf den Tegernsee serviert. Nach einer entspannten Gondelfahrt auf den Wallberg kommen Sie gem&uuml\;tlich in das Panoramarestaurant\, genie&szlig\;en Sie&nbsp\; Vorspeise\, Hauptgang und Nachspeise.&nbsp\; Und vor\, zwischen und nach den G&auml\;ngen bringen die Theaterspieler Sie&nbsp\; zum Lachen\, Staunen und Schmunzeln.

Mitmachen muss niemand. Freuen Sie sich auf einen lustigen&nbsp\; Abend und den ein oder anderen Spa&szlig\;.

Bergfahrt ab 17:00 Uhr

Start Theater 18:30 Uhr

&nbsp\;
URL;VALUE=URI:https://www.tegernsee-schliersee.de/
CLASS:PUBLIC
DTSTART:20260425T183000
DTSTAMP:20260424T170806
END:VEVENT
END:VCALENDAR