BEGIN:VCALENDAR
VERSION:2.0
PRODID:http://www.infomax-online.de/imxeventmanager/
METHOD:PUBLISH
BEGIN:VTIMEZONE
TZID:Europe/Berlin
TZURL:http://tzurl.org/zoneinfo-outlook/Europe/Berlin
X-LIC-LOCATION:Europe/Berlin
END:VTIMEZONE
BEGIN:VEVENT
UID:69eb86c185596
LOCATION:Auf der Tuften 12, 83684 Tegernsee
SUMMARY:Volksmusiknachmittag im Ludwig-Thoma-Haus - "Sommeranfang"
DESCRIPTION:Der Verein zur Pflege der Bayerischen Volksmusik e.V. l&auml\;dt zum ersten Mal in diesem Jahr zum Volksmusiknachmittag ins Ludwig-Thoma-Haus ein. Unter dem Motto &quot\;Sommeranfang&quot\; musizieren K&uuml\;nstler an dem wohl passendsten Ort f&uuml\;r alpenl&auml\;ndische Stubenmusik. Dem Ort\, wo die magischen Kl&auml\;nge Paul Kiem&#39\;s einst den Gedanken von Ludwig Thoma Ansto&szlig\; verliehen und wo seit &uuml\;ber 30 Jahren das Andenken an diese Sinnlichkeit mit Sepp Eibl und seinen Freunden W&uuml\;rdigung erf&auml\;hrt. Der Bauernstube auf der Tuften im Ludwig-Thoma-Haus bei Rottach-Egern am Tegernsee.

Der Termin wurde vom 20. Juni auf den 25. April vorverlegt!

Weitere Termin: 24. Oktober | 21. November
URL;VALUE=URI:https://www.tegernsee-schliersee.de/
CLASS:PUBLIC
DTSTART:20260425T150000
DTSTAMP:20260424T170537
END:VEVENT
END:VCALENDAR