BEGIN:VCALENDAR
VERSION:2.0
PRODID:http://www.infomax-online.de/imxeventmanager/
METHOD:PUBLISH
BEGIN:VTIMEZONE
TZID:Europe/Berlin
TZURL:http://tzurl.org/zoneinfo-outlook/Europe/Berlin
X-LIC-LOCATION:Europe/Berlin
END:VTIMEZONE
BEGIN:VEVENT
UID:69e8b5faa8f7a
LOCATION:Seestraße 2, 83703 Gmund
SUMMARY:gmundArt - Sabine Eva Meier liest Schuld und Schweigen - Ein Tegernsee Krimi
DESCRIPTION:Im Rahmen der gmundArt liest&nbsp\;Buch- &amp\; H&ouml\;rbuchautorin&nbsp\;Sabine Eva Meier&nbsp\;aus ihrem neuen Tegernsee-Krimi.

Die Geschichte rund um die Schlacht am Grund und den legend&auml\;ren Jager Mayr beginnt im Jagerhaus und spielt &uuml\;berwiegend in Gmund. Damit ist die Lesung ein echtes Schmankerl f&uuml\;r alle\, die unsere Region lieben &ndash\; mit vielen vertrauten Schaupl&auml\;tzen und historischen Bez&uuml\;gen.

Anmeldung unter: sabineevameier@posteo.de

Ab April 2026 &uuml\;berall im Handel erh&auml\;ltlich.
URL;VALUE=URI:https://www.tegernsee-schliersee.de/
CLASS:PUBLIC
DTSTART:20260423T193000
DTSTAMP:20260422T135018
END:VEVENT
END:VCALENDAR