BEGIN:VCALENDAR
VERSION:2.0
PRODID:http://www.infomax-online.de/imxeventmanager/
METHOD:PUBLISH
BEGIN:VTIMEZONE
TZID:Europe/Berlin
TZURL:http://tzurl.org/zoneinfo-outlook/Europe/Berlin
X-LIC-LOCATION:Europe/Berlin
END:VTIMEZONE
BEGIN:VEVENT
UID:69eb8b3fa1b64
LOCATION:Kaltenbrunn 1, 83703 Gmund
SUMMARY:Electronic Music Birthday Party
DESCRIPTION:Im Firlefanz auf Gut Kaltenbrunn findet die n&auml\;chste Electronic Music Party statt.

Auflegen werden: Alec Troniq aus Dresden\, Bodo aus Erfurt\, Lou aus Kufstein &ndash\; regional unterst&uuml\;tzt von Granlab\, Tend und Dieter Brechstange.

Der Eintritt ist kostenlos\, also kommt vorbei und feiert mit uns.&ldquo\;
URL;VALUE=URI:https://www.tegernsee-schliersee.de/
CLASS:PUBLIC
DTSTART:20260425T190000
DTSTAMP:20260424T172447
END:VEVENT
END:VCALENDAR