BEGIN:VCALENDAR
VERSION:2.0
PRODID:http://www.infomax-online.de/imxeventmanager/
METHOD:PUBLISH
BEGIN:VTIMEZONE
TZID:Europe/Berlin
TZURL:http://tzurl.org/zoneinfo-outlook/Europe/Berlin
X-LIC-LOCATION:Europe/Berlin
END:VTIMEZONE
BEGIN:VEVENT
UID:69ea44c8ccd1a
LOCATION:Seestraße 34, 83727 Schliersee
SUMMARY:Waldfest Schliersee
DESCRIPTION:Tradition pur Schliersees! Das Waldfest begeistert mit bayerischer Blasmusik\, Tracht\, Tanz und Schmankerln unter schattigen B&auml\;umen. Einheimische und G&auml\;ste feiern gemeinsam in geselliger Atmosph&auml\;re &ndash\; ein H&ouml\;hepunkt des Sommers in Oberbayern.

&nbsp\;

Das Programm &amp\; Verschiebetermine finden Sie unter
URL;VALUE=URI:https://www.tegernsee-schliersee.de/
CLASS:PUBLIC
DTSTART:20260813T170000
DTSTAMP:20260423T181152
END:VEVENT
END:VCALENDAR