BEGIN:VCALENDAR
VERSION:2.0
PRODID:http://www.infomax-online.de/imxeventmanager/
METHOD:PUBLISH
BEGIN:VTIMEZONE
TZID:Europe/Berlin
TZURL:http://tzurl.org/zoneinfo-outlook/Europe/Berlin
X-LIC-LOCATION:Europe/Berlin
END:VTIMEZONE
BEGIN:VEVENT
UID:69e88a515f80a
LOCATION:Wiesseer Str. 11, 83703 Gmund
SUMMARY:Geführte Nordic Walking Tour
DESCRIPTION:St&auml\;rken Sie Ihr Immunsystem\, bauen Sie Stress und Muskelverspannungen ab und freuen sich mit Ihrem R&uuml\;cken auf ein Fitness Workout in freier Natur.

Kosten: 7\,00 &euro\;\, mit G&auml\;ste-oder TegernseeCard frei.

Anmeldung bis 17:00 Uhr am Vortag bei Gudrun Ruck unter der Nummer: +49 170 9631843
URL;VALUE=URI:https://www.tegernsee-schliersee.de/
CLASS:PUBLIC
DTSTART:20260506T090000
DTSTAMP:20260422T104401
END:VEVENT
END:VCALENDAR