BEGIN:VCALENDAR
VERSION:2.0
PRODID:http://www.infomax-online.de/imxeventmanager/
METHOD:PUBLISH
BEGIN:VTIMEZONE
TZID:Europe/Berlin
TZURL:http://tzurl.org/zoneinfo-outlook/Europe/Berlin
X-LIC-LOCATION:Europe/Berlin
END:VTIMEZONE
BEGIN:VEVENT
UID:69ed6abe9f9b1
LOCATION:Perfallstr. 4, 83727 Schliersee
SUMMARY:Kurkonzert mit der Musikkapelle Elbach
DESCRIPTION:Konzert mit der Musikkapelle Elbach am Kurpark.
Der Eintritt ist frei.

Bei schlechter Witterung finden die Konzerte im Forum der Vitalwelt Schliersee statt.
URL;VALUE=URI:https://www.tegernsee-schliersee.de/
CLASS:PUBLIC
DTSTART:20260611T200000
DTSTAMP:20260426T033038
END:VEVENT
END:VCALENDAR