BEGIN:VCALENDAR
VERSION:2.0
PRODID:http://www.infomax-online.de/imxeventmanager/
METHOD:PUBLISH
BEGIN:VTIMEZONE
TZID:Europe/Berlin
TZURL:http://tzurl.org/zoneinfo-outlook/Europe/Berlin
X-LIC-LOCATION:Europe/Berlin
END:VTIMEZONE
BEGIN:VEVENT
UID:69e6774b72e05
LOCATION:Kaltenbrunner Str. 2, 83703 Gmund
SUMMARY:Bridgeturnier Bridgeclub Tegernseer Tal
DESCRIPTION:Bridgeturnier - w&ouml\;chentlich&nbsp\;

Anmeldung ist erforderlich (sp&auml\;testens 1 Tag vor dem Spieltag) bei Doris Ring: +49 8026 4746 oder +49 173 2873837

G&auml\;ste sind herzlich willkommen\, ebenso freuen wir uns &uuml\;ber Ihr Interesse hinsichtlich einer Mitgliedschaft.
URL;VALUE=URI:https://www.tegernsee-schliersee.de/
CLASS:PUBLIC
DTSTART:20260427T141500
DTSTAMP:20260420T205819
END:VEVENT
END:VCALENDAR