BEGIN:VCALENDAR
VERSION:2.0
PRODID:http://www.infomax-online.de/imxeventmanager/
METHOD:PUBLISH
BEGIN:VTIMEZONE
TZID:Europe/Berlin
TZURL:http://tzurl.org/zoneinfo-outlook/Europe/Berlin
X-LIC-LOCATION:Europe/Berlin
END:VTIMEZONE
BEGIN:VEVENT
UID:69e5e6e6c3904
LOCATION:Josef-Lantenhammer Platz 1, 83734 Hausham
SUMMARY:Lantenhammer Erlebnisdestillerie ERLEBEN. STAUNEN. GENIEßEN.
DESCRIPTION:Wie entsteht traditioneller Obstbrand\, feiner Gin oder echt bayrischer Rum? Im neuen interaktiven und multimedialen Erlebnisrundgang erf&auml\;hrt man alles &uuml\;ber die Welt feiner Destillate. Schauen Sie den Destillateuren an den kupfernden Brennkesseln &uuml\;ber die Schulter oder entdecken Sie die Besonderheiten unserer einmaligen Steinzeugbeh&auml\;lter und wertvollen Rumf&auml\;sser. Selfguided Tour. Preis: 9\,50 &euro\; pro Pers. inkl. Film und Verkostung. Kinder/Jugendliche frei (ohne Verkostung). F&uuml\;hrungen mit Guide nur mit Reservierung. Preis: 80 &euro\; pro Gruppe ab 8 Pers. + 8 &euro\; pro Pers. inkl. Film und Verkostung. Erlebniswelt mit Shop von Mo. - So. von 10 - bis 18 Uhr. Josef-Lantenhammer Platz 1 Anfragen/ Reservierungen: Tel. 08026 9248-33

&nbsp\;
URL;VALUE=URI:https://www.tegernsee-schliersee.de/
CLASS:PUBLIC
DTSTART:20260406T100000
DTSTAMP:20260420T104214
END:VEVENT
END:VCALENDAR